BEGIN:VCALENDAR
VERSION:2.0
PRODID:-//Sabre//Sabre VObject 4.5.8//EN
CALSCALE:GREGORIAN
BEGIN:VEVENT
UID:criticalmass-one-mainz-1588352400
DTSTAMP:20260422T112705Z
SUMMARY:Critical Mass Mainz 01.05.2020
DTSTART;TZID=Europe/Berlin:20200501T190000
DTEND;TZID=Europe/Berlin:20200501T210000
LOCATION:Gutenbergplatz (vorm Staatstheater)
GEO:49.998974;8.271439
URL;VALUE=URI:https://criticalmass.in/mainz/2020-05-01
END:VEVENT
END:VCALENDAR
