BEGIN:VCALENDAR
VERSION:2.0
PRODID:-//Sabre//Sabre VObject 4.5.8//EN
CALSCALE:GREGORIAN
BEGIN:VEVENT
UID:criticalmass-one-mainz-1578070800
DTSTAMP:20260423T154122Z
SUMMARY:Critical Mass Mainz 03.01.2020
DTSTART;TZID=Europe/Berlin:20200103T180000
DTEND;TZID=Europe/Berlin:20200103T200000
LOCATION:Gutenbergplatz (vor dem Staatstheater)
GEO:49.999030;8.271418
URL;VALUE=URI:https://criticalmass.in/mainz/2020-01-03
END:VEVENT
END:VCALENDAR
