BEGIN:VCALENDAR
VERSION:2.0
PRODID:-//Sabre//Sabre VObject 4.5.8//EN
CALSCALE:GREGORIAN
BEGIN:VEVENT
UID:criticalmass-one-mainz-1569254400
DTSTAMP:20260422T112031Z
SUMMARY:Wir kreiseln durch Mainz (F4F-Critical Mass) 23.09.2019
DESCRIPTION:In der #WeekForClimate wollen wir neben klassischen Demonstrati
 onen bewusst mit zahlreichen anderen Aktionsformen auf Klimaschutz\, Verke
 hrsweden und die damit einhergehenden Probleme aufmerksam machen.\n\nDafü
 r veranstalten wir am 23.9 eine besondere Aktion. Wie schon im Februar mö
 chten wir alle Aktivist*innen zu einer großen Critical Mass ??‍♂️ e
 inladen. Dabei fahren wir mit dem Fahrrad als Gruppe durch die Stadt um au
 f die Verkehrswende und die Rechte von Radfahrer*innen aufmerksam zu mache
 n. \n\nUnsere Critical Mass am 23. September ist aber eine ganz besondere.
  Wir fahren bewusst einmal durch den Kreisel in Mainz-Kastel\, um an diese
 m wichtigen Verkehrsknotenpunkt Präsenz mit dem Rad zu zeigen.\n\nAlso: B
 ringt am 23. September ab 18:00 Uhr eure Fahrräder mit auf den Gutenbergp
 latz und radelt mit uns mit guter Stimmung durch die Stadt! ????‍♂️?
 ?‍♀️\n\n\nWas muss ich mitbringen?\nEin Fahrrad\, gute Stimmung\, Mu
 sik & motivierte Freunde!
DTSTART;TZID=Europe/Berlin:20190923T180000
DTEND;TZID=Europe/Berlin:20190923T200000
LOCATION:Gutenbergplatz (vor dem Staatstheater)
URL;VALUE=URI:https://criticalmass.in/mainz/2019-09-23
END:VEVENT
END:VCALENDAR
