BEGIN:VCALENDAR
VERSION:2.0
PRODID:-//Sabre//Sabre VObject 4.5.8//EN
CALSCALE:GREGORIAN
BEGIN:VEVENT
UID:criticalmass-one-mainz-1549040400
DTSTAMP:20260422T112007Z
SUMMARY:Critical Mass Mainz 01.02.2019
DTSTART;TZID=Europe/Berlin:20190201T180000
DTEND;TZID=Europe/Berlin:20190201T200000
LOCATION:Gutenbergplatz (vorm Staatstheater)
GEO:49.998830;8.271450
URL;VALUE=URI:https://criticalmass.in/mainz/2019-02-01
END:VEVENT
END:VCALENDAR
