BEGIN:VCALENDAR
VERSION:2.0
PRODID:-//Sabre//Sabre VObject 4.5.8//EN
CALSCALE:GREGORIAN
BEGIN:VEVENT
UID:criticalmass-one-mainz-1544202000
DTSTAMP:20260423T094952Z
SUMMARY:Critical Mass Mainz 07.12.2018
DTSTART;TZID=Europe/Berlin:20181207T180000
DTEND;TZID=Europe/Berlin:20181207T200000
LOCATION:Platz vor dem Staatstheater
GEO:49.998991;8.271494
URL;VALUE=URI:https://criticalmass.in/mainz/2018-12-07
END:VEVENT
END:VCALENDAR
