BEGIN:VCALENDAR
VERSION:2.0
PRODID:-//Sabre//Sabre VObject 4.5.8//EN
CALSCALE:GREGORIAN
BEGIN:VEVENT
UID:criticalmass-one-mainz-1533315600
DTSTAMP:20260423T154105Z
SUMMARY:Critical Mass Mainz 03.08.2018
DTSTART;TZID=Europe/Berlin:20180803T190000
DTEND;TZID=Europe/Berlin:20180803T210000
LOCATION:Platz vor dem Staatstheater
GEO:49.998991;8.271494
URL;VALUE=URI:https://criticalmass.in/mainz/2018-08-03
END:VEVENT
END:VCALENDAR
