BEGIN:VCALENDAR
VERSION:2.0
PRODID:-//Sabre//Sabre VObject 4.5.8//EN
CALSCALE:GREGORIAN
BEGIN:VEVENT
UID:criticalmass-one-mainz-1519977600
DTSTAMP:20260423T114813Z
SUMMARY:Critical Mass Mainz 02.03.2018
DTSTART;TZID=Europe/Berlin:20180302T090000
DTEND;TZID=Europe/Berlin:20180302T110000
LOCATION:Platz vor dem Staatstheater
GEO:49.998991;8.271494
URL;VALUE=URI:https://criticalmass.in/mainz/2018-03-02
END:VEVENT
END:VCALENDAR
