BEGIN:VCALENDAR
VERSION:2.0
PRODID:-//Sabre//Sabre VObject 4.5.8//EN
CALSCALE:GREGORIAN
BEGIN:VEVENT
UID:criticalmass-one-mainz-1504245600
DTSTAMP:20260421T183627Z
SUMMARY:Critical Mass Mainz 01.09.2017
DTSTART;TZID=Europe/Berlin:20170901T080000
DTEND;TZID=Europe/Berlin:20170901T100000
LOCATION:Platz vor dem Staatstheater
GEO:49.998991;8.271494
URL;VALUE=URI:https://criticalmass.in/mainz/2017-09-01
END:VEVENT
END:VCALENDAR
