BEGIN:VCALENDAR
VERSION:2.0
PRODID:-//Sabre//Sabre VObject 4.5.8//EN
CALSCALE:GREGORIAN
BEGIN:VEVENT
UID:criticalmass-one-mainz-1488524400
DTSTAMP:20260422T095214Z
SUMMARY:Critical Mass Mainz 03.03.2017
DTSTART;TZID=Europe/Berlin:20170303T080000
DTEND;TZID=Europe/Berlin:20170303T100000
LOCATION:Platz vor dem Staatstheater
GEO:49.998991;8.271494
URL;VALUE=URI:https://criticalmass.in/mainz/2017-03-03
END:VEVENT
END:VCALENDAR
