BEGIN:VCALENDAR
VERSION:2.0
PRODID:-//Sabre//Sabre VObject 4.5.8//EN
CALSCALE:GREGORIAN
BEGIN:VEVENT
UID:criticalmass-one-mainz-1464933600
DTSTAMP:20260422T112705Z
SUMMARY:Critical Mass Mainz 03.06.2016
DTSTART;TZID=Europe/Berlin:20160603T080000
DTEND;TZID=Europe/Berlin:20160603T100000
LOCATION:Platz vor dem Staatstheater
GEO:49.998991;8.271494
URL;VALUE=URI:https://criticalmass.in/mainz/2016-06-03
END:VEVENT
END:VCALENDAR
