BEGIN:VCALENDAR
VERSION:2.0
PRODID:-//Sabre//Sabre VObject 4.5.8//EN
CALSCALE:GREGORIAN
BEGIN:VEVENT
UID:criticalmass-one-mainz-1459490400
DTSTAMP:20260422T111845Z
SUMMARY:Critical Mass Mainz 01.04.2016
DTSTART;TZID=Europe/Berlin:20160401T080000
DTEND;TZID=Europe/Berlin:20160401T100000
LOCATION:Platz vor dem Staatstheater
GEO:49.998991;8.271494
URL;VALUE=URI:https://criticalmass.in/mainz/2016-04-01
END:VEVENT
END:VCALENDAR
