BEGIN:VCALENDAR
VERSION:2.0
PRODID:-//Sabre//Sabre VObject 4.5.8//EN
CALSCALE:GREGORIAN
BEGIN:VEVENT
UID:criticalmass-one-mainz-1438927200
DTSTAMP:20260422T095623Z
SUMMARY:Critical Mass Mainz 07.08.2015
DTSTART;TZID=Europe/Berlin:20150807T080000
DTEND;TZID=Europe/Berlin:20150807T100000
LOCATION:Platz vor dem Staatstheater
GEO:49.998991;8.271494
URL;VALUE=URI:https://criticalmass.in/mainz/2015-08-07
END:VEVENT
END:VCALENDAR
