BEGIN:VCALENDAR
VERSION:2.0
PRODID:-//Sabre//Sabre VObject 4.5.8//EN
CALSCALE:GREGORIAN
BEGIN:VEVENT
UID:criticalmass-one-mainz-1433484000
DTSTAMP:20260422T095650Z
SUMMARY:Critical Mass Mainz 05.06.2015
DTSTART;TZID=Europe/Berlin:20150605T080000
DTEND;TZID=Europe/Berlin:20150605T100000
LOCATION:Platz vor dem Staatstheater
GEO:49.998991;8.271494
URL;VALUE=URI:https://criticalmass.in/mainz/2015-06-05
END:VEVENT
END:VCALENDAR
