BEGIN:VCALENDAR
VERSION:2.0
PRODID:-//Sabre//Sabre VObject 4.5.8//EN
CALSCALE:GREGORIAN
BEGIN:VEVENT
UID:criticalmass-one-mainz-1402034400
DTSTAMP:20260422T213158Z
SUMMARY:Critical Mass Mainz 06.06.2014
DTSTART;TZID=Europe/Berlin:20140606T080000
DTEND;TZID=Europe/Berlin:20140606T100000
LOCATION:Platz vor dem Staatstheater
GEO:49.998991;8.271494
URL;VALUE=URI:https://criticalmass.in/mainz/2014-06-06
END:VEVENT
END:VCALENDAR
