BEGIN:VCALENDAR
VERSION:2.0
PRODID:-//Sabre//Sabre VObject 4.5.8//EN
CALSCALE:GREGORIAN
BEGIN:VEVENT
UID:criticalmass-one-mainz-1388732400
DTSTAMP:20260422T095404Z
SUMMARY:Critical Mass Mainz 03.01.2014
DTSTART;TZID=Europe/Berlin:20140103T080000
DTEND;TZID=Europe/Berlin:20140103T100000
LOCATION:Platz vor dem Staatstheater
GEO:49.998991;8.271494
URL;VALUE=URI:https://criticalmass.in/mainz/2014-01-03
END:VEVENT
END:VCALENDAR
