BEGIN:VCALENDAR
VERSION:2.0
PRODID:-//Sabre//Sabre VObject 4.5.8//EN
CALSCALE:GREGORIAN
BEGIN:VEVENT
UID:criticalmass-one-magdeburg-1774804500
DTSTAMP:20260425T033836Z
SUMMARY:März 2026
DESCRIPTION:Unsere Tour am 27.03.2026
DTSTART;TZID=Europe/Berlin:20260329T191500
DTEND;TZID=Europe/Berlin:20260329T211500
LOCATION:Am Elbbalkon an der Hubbrücke im Elbbahnfosviertel (Zum Domfelsen
  1\, 39104 Magdeburg)
GEO:52.120530;11.627620
URL;VALUE=URI:https://criticalmass.in/magdeburg/2026-03-29
END:VEVENT
END:VCALENDAR
