BEGIN:VCALENDAR
VERSION:2.0
PRODID:-//Sabre//Sabre VObject 4.5.8//EN
CALSCALE:GREGORIAN
BEGIN:VEVENT
UID:criticalmass-one-madison-1769864400
DTSTAMP:20260422T075158Z
SUMMARY:Alex Pretti Memorial Ride — Billy C
DESCRIPTION:Meet at the Wisconsin State Capitol (state street side) at 1 p.
 m. for a 1:30 p.m. roll-out. 
DTSTART;TZID=America/Chicago:20260131T070000
DTEND;TZID=America/Chicago:20260131T090000
LOCATION:Wisconsin State Capitol\, Madison
GEO:43.074757;-89.386760
URL;VALUE=URI:https://criticalmass.in/madison/alex-pretti-memorial-ride-mad
 ison-2026-01-31
END:VEVENT
END:VCALENDAR
