BEGIN:VCALENDAR
VERSION:2.0
PRODID:-//Sabre//Sabre VObject 4.5.8//EN
CALSCALE:GREGORIAN
BEGIN:VEVENT
UID:criticalmass-one-luzern-1683457200
DTSTAMP:20260423T034144Z
SUMMARY:Kidical Mass Luzern 07.05.2023
DTSTART;TZID=Europe/Berlin:20230507T130000
DTEND;TZID=Europe/Berlin:20230507T150000
LOCATION:Mühlenplatz
GEO:47.051938;8.303313
URL;VALUE=URI:https://criticalmass.in/luzern/kidical-mass-luzern-mai-2023
END:VEVENT
END:VCALENDAR
