BEGIN:VCALENDAR
VERSION:2.0
PRODID:-//Sabre//Sabre VObject 4.5.8//EN
CALSCALE:GREGORIAN
BEGIN:VEVENT
UID:criticalmass-one-lunen-1632056400
DTSTAMP:20260424T065709Z
SUMMARY:Kidical Mass Lünen 19.09.2021
DTSTART;TZID=Europe/Berlin:20210919T150000
DTEND;TZID=Europe/Berlin:20210919T170000
LOCATION:Gneisenautrasse /Jägerstr. (Lünen-Süd)
URL;VALUE=URI:https://criticalmass.in/lunen/kidical-mass-lunen-september-20
 21
END:VEVENT
END:VCALENDAR
