BEGIN:VCALENDAR
VERSION:2.0
PRODID:-//Sabre//Sabre VObject 4.5.8//EN
CALSCALE:GREGORIAN
BEGIN:VEVENT
UID:criticalmass-one-lunen-1758898800
DTSTAMP:20260423T103858Z
SUMMARY:Critical Mass Lünen 26.09.2025
DTSTART;TZID=Europe/Berlin:20250926T170000
DTEND;TZID=Europe/Berlin:20250926T190000
LOCATION:Willy-Brandt-Platz\; vor dem Rathaus
URL;VALUE=URI:https://criticalmass.in/lunen/2025-09-26
END:VEVENT
END:VCALENDAR
