BEGIN:VCALENDAR
VERSION:2.0
PRODID:-//Sabre//Sabre VObject 4.5.8//EN
CALSCALE:GREGORIAN
BEGIN:VEVENT
UID:criticalmass-one-lunen-1738339200
DTSTAMP:20260424T121611Z
SUMMARY:Critical Mass Lünen 31.01.2025
DTSTART;TZID=Europe/Berlin:20250131T170000
DTEND;TZID=Europe/Berlin:20250131T190000
LOCATION:Willy-Brandt-Platz\; vor dem Rathaus
URL;VALUE=URI:https://criticalmass.in/lunen/2025-01-31
END:VEVENT
END:VCALENDAR
