BEGIN:VCALENDAR
VERSION:2.0
PRODID:-//Sabre//Sabre VObject 4.5.8//EN
CALSCALE:GREGORIAN
BEGIN:VEVENT
UID:criticalmass-one-lunen-1640966400
DTSTAMP:20260424T121603Z
SUMMARY:Critical Mass Lünen 31.12.2021
DTSTART;TZID=Europe/Berlin:20211231T170000
DTEND;TZID=Europe/Berlin:20211231T190000
LOCATION:Willy-Brandt-Platz\; vor dem Rathaus
URL;VALUE=URI:https://criticalmass.in/lunen/2021-12-31
END:VEVENT
END:VCALENDAR
