BEGIN:VCALENDAR
VERSION:2.0
PRODID:-//Sabre//Sabre VObject 4.5.8//EN
CALSCALE:GREGORIAN
BEGIN:VEVENT
UID:criticalmass-one-lunen-1632495600
DTSTAMP:20260424T092255Z
SUMMARY:Critical Mass Lünen 24.09.2021
DTSTART;TZID=Europe/Berlin:20210924T170000
DTEND;TZID=Europe/Berlin:20210924T190000
LOCATION:Willy-Brandt-Platz\; vor dem Rathaus
URL;VALUE=URI:https://criticalmass.in/lunen/2021-09-24
END:VEVENT
END:VCALENDAR
