BEGIN:VCALENDAR
VERSION:2.0
PRODID:-//Sabre//Sabre VObject 4.5.8//EN
CALSCALE:GREGORIAN
BEGIN:VEVENT
UID:criticalmass-one-lunen-1622214000
DTSTAMP:20260424T092216Z
SUMMARY:Critical Mass Lünen 28.05.2021
DTSTART;TZID=Europe/Berlin:20210528T170000
DTEND;TZID=Europe/Berlin:20210528T190000
LOCATION:Willy-Brandt-Platz\; vor dem Rathaus
URL;VALUE=URI:https://criticalmass.in/lunen/2021-05-28
END:VEVENT
END:VCALENDAR
