BEGIN:VCALENDAR
VERSION:2.0
PRODID:-//Sabre//Sabre VObject 4.5.8//EN
CALSCALE:GREGORIAN
BEGIN:VEVENT
UID:criticalmass-one-lunen-1608908400
DTSTAMP:20260424T145550Z
SUMMARY:Critical Mass Lünen 25.12.2020
DTSTART;TZID=Europe/Berlin:20201225T160000
DTEND;TZID=Europe/Berlin:20201225T180000
LOCATION:Willy-Brandt-Platz\; vor dem Rathaus
URL;VALUE=URI:https://criticalmass.in/lunen/2020-12-25
END:VEVENT
END:VCALENDAR
