BEGIN:VCALENDAR
VERSION:2.0
PRODID:-//Sabre//Sabre VObject 4.5.8//EN
CALSCALE:GREGORIAN
BEGIN:VEVENT
UID:criticalmass-one-lunen-1596207600
DTSTAMP:20260423T192324Z
SUMMARY:Critical Mass Lünen 31.07.2020
DTSTART;TZID=Europe/Berlin:20200731T170000
DTEND;TZID=Europe/Berlin:20200731T190000
LOCATION:Willy-Brandt-Platz\; vor dem Rathaus
URL;VALUE=URI:https://criticalmass.in/lunen/2020-07-31
END:VEVENT
END:VCALENDAR
