BEGIN:VCALENDAR
VERSION:2.0
PRODID:-//Sabre//Sabre VObject 4.5.8//EN
CALSCALE:GREGORIAN
BEGIN:VEVENT
UID:criticalmass-one-lunen-1593183600
DTSTAMP:20260423T103539Z
SUMMARY:Critical Mass Lünen 26.06.2020
DTSTART;TZID=Europe/Berlin:20200626T170000
DTEND;TZID=Europe/Berlin:20200626T190000
LOCATION:Willy-Brandt-Platz\; vor dem Rathaus
URL;VALUE=URI:https://criticalmass.in/lunen/2020-06-26
END:VEVENT
END:VCALENDAR
