BEGIN:VCALENDAR
VERSION:2.0
PRODID:-//Sabre//Sabre VObject 4.5.8//EN
CALSCALE:GREGORIAN
BEGIN:VEVENT
UID:criticalmass-one-lunen-1575043200
DTSTAMP:20260425T221452Z
SUMMARY:Critical Mass Lünen 29.11.2019
DTSTART;TZID=Europe/Berlin:20191129T170000
DTEND;TZID=Europe/Berlin:20191129T190000
LOCATION:Willy-Brandt-Platz\; vor dem Rathaus
URL;VALUE=URI:https://criticalmass.in/lunen/2019-11-29
END:VEVENT
END:VCALENDAR
