BEGIN:VCALENDAR
VERSION:2.0
PRODID:-//Sabre//Sabre VObject 4.5.8//EN
CALSCALE:GREGORIAN
BEGIN:VEVENT
UID:criticalmass-one-lueneburg-1652619600
DTSTAMP:20260422T111246Z
SUMMARY:Kidical Mass Lüneburg 15.05.2022
DTSTART;TZID=Europe/Berlin:20220515T150000
DTEND;TZID=Europe/Berlin:20220515T170000
LOCATION:Sülzwiesen
GEO:53.246751;10.394679
URL;VALUE=URI:https://criticalmass.in/lueneburg/kidical-mass-lueneburg-mai-
 2022
END:VEVENT
END:VCALENDAR
