BEGIN:VCALENDAR
VERSION:2.0
PRODID:-//Sabre//Sabre VObject 4.5.8//EN
CALSCALE:GREGORIAN
BEGIN:VEVENT
UID:criticalmass-one-lueneburg-1767373200
DTSTAMP:20260424T022239Z
SUMMARY:Critical Mass Lüneburg 02.01.2026
DTSTART;TZID=Europe/Berlin:20260102T180000
DTEND;TZID=Europe/Berlin:20260102T200000
LOCATION:Marktplatz
GEO:53.250207;10.408366
URL;VALUE=URI:https://criticalmass.in/lueneburg/2026-01-02
END:VEVENT
END:VCALENDAR
