BEGIN:VCALENDAR
VERSION:2.0
PRODID:-//Sabre//Sabre VObject 4.5.8//EN
CALSCALE:GREGORIAN
BEGIN:VEVENT
UID:criticalmass-one-lueneburg-1759507200
DTSTAMP:20260424T094355Z
SUMMARY:Critical Mass Lüneburg 03.10.2025
DTSTART;TZID=Europe/Berlin:20251003T180000
DTEND;TZID=Europe/Berlin:20251003T200000
LOCATION:Marktplatz
GEO:53.250207;10.408366
URL;VALUE=URI:https://criticalmass.in/lueneburg/2025-10-03
END:VEVENT
END:VCALENDAR
