BEGIN:VCALENDAR
VERSION:2.0
PRODID:-//Sabre//Sabre VObject 4.5.8//EN
CALSCALE:GREGORIAN
BEGIN:VEVENT
UID:criticalmass-one-lueneburg-1735923600
DTSTAMP:20260425T034010Z
SUMMARY:Critical Mass Lüneburg 03.01.2025
DTSTART;TZID=Europe/Berlin:20250103T180000
DTEND;TZID=Europe/Berlin:20250103T200000
LOCATION:Marktplatz
GEO:53.250207;10.408366
URL;VALUE=URI:https://criticalmass.in/lueneburg/2025-01-03
END:VEVENT
END:VCALENDAR
