BEGIN:VCALENDAR
VERSION:2.0
PRODID:-//Sabre//Sabre VObject 4.5.8//EN
CALSCALE:GREGORIAN
BEGIN:VEVENT
UID:criticalmass-one-lueneburg-1730480400
DTSTAMP:20260423T232740Z
SUMMARY:Critical Mass Lüneburg - November 2024
DTSTART;TZID=Europe/Berlin:20241101T180000
DTEND;TZID=Europe/Berlin:20241101T200000
LOCATION:Marktplatz
URL;VALUE=URI:https://criticalmass.in/lueneburg/2024-11-01
END:VEVENT
END:VCALENDAR
