BEGIN:VCALENDAR
VERSION:2.0
PRODID:-//Sabre//Sabre VObject 4.5.8//EN
CALSCALE:GREGORIAN
BEGIN:VEVENT
UID:criticalmass-one-lueneburg-1717776000
DTSTAMP:20260424T135254Z
SUMMARY:Critical Mass Lüneburg 07.06.2024
DTSTART;TZID=Europe/Berlin:20240607T180000
DTEND;TZID=Europe/Berlin:20240607T200000
LOCATION:Marktplatz
GEO:53.250207;10.408366
URL;VALUE=URI:https://criticalmass.in/lueneburg/2024-06-07
END:VEVENT
END:VCALENDAR
