BEGIN:VCALENDAR
VERSION:2.0
PRODID:-//Sabre//Sabre VObject 4.5.8//EN
CALSCALE:GREGORIAN
BEGIN:VEVENT
UID:criticalmass-one-lueneburg-1714914000
DTSTAMP:20260423T232738Z
SUMMARY:Kidical Mass Lüneburg im Mai 2025
DTSTART;TZID=Europe/Berlin:20240505T150000
DTEND;TZID=Europe/Berlin:20240505T170000
LOCATION:Clamartpark
GEO:53.245624;10.409975
URL;VALUE=URI:https://criticalmass.in/lueneburg/2024-05-05
END:VEVENT
END:VCALENDAR
