BEGIN:VCALENDAR
VERSION:2.0
PRODID:-//Sabre//Sabre VObject 4.5.8//EN
CALSCALE:GREGORIAN
BEGIN:VEVENT
UID:criticalmass-one-lueneburg-1691164800
DTSTAMP:20260424T022250Z
SUMMARY:Critical Mass Lüneburg 04.08.2023
DTSTART;TZID=Europe/Berlin:20230804T180000
DTEND;TZID=Europe/Berlin:20230804T200000
LOCATION:Marktplatz
GEO:53.250207;10.408366
URL;VALUE=URI:https://criticalmass.in/lueneburg/2023-08-04
END:VEVENT
END:VCALENDAR
