BEGIN:VCALENDAR
VERSION:2.0
PRODID:-//Sabre//Sabre VObject 4.5.8//EN
CALSCALE:GREGORIAN
BEGIN:VEVENT
UID:criticalmass-one-lueneburg-1683302400
DTSTAMP:20260421T225351Z
SUMMARY:Critical Mass Lüneburg 05.05.2023
DTSTART;TZID=Europe/Berlin:20230505T180000
DTEND;TZID=Europe/Berlin:20230505T200000
LOCATION:Marktplatz
GEO:53.250207;10.408366
URL;VALUE=URI:https://criticalmass.in/lueneburg/2023-05-05
END:VEVENT
END:VCALENDAR
