BEGIN:VCALENDAR
VERSION:2.0
PRODID:-//Sabre//Sabre VObject 4.5.8//EN
CALSCALE:GREGORIAN
BEGIN:VEVENT
UID:criticalmass-one-lueneburg-1677862800
DTSTAMP:20260422T082726Z
SUMMARY:Critical Mass Lüneburg 03.03.2023
DTSTART;TZID=Europe/Berlin:20230303T180000
DTEND;TZID=Europe/Berlin:20230303T200000
LOCATION:Marktplatz
GEO:53.250207;10.408366
URL;VALUE=URI:https://criticalmass.in/lueneburg/2023-03-03
END:VEVENT
END:VCALENDAR
