BEGIN:VCALENDAR
VERSION:2.0
PRODID:-//Sabre//Sabre VObject 4.5.8//EN
CALSCALE:GREGORIAN
BEGIN:VEVENT
UID:criticalmass-one-lueneburg-1670000400
DTSTAMP:20260424T010338Z
SUMMARY:Critical Mass Lüneburg 02.12.2022
DTSTART;TZID=Europe/Berlin:20221202T180000
DTEND;TZID=Europe/Berlin:20221202T200000
LOCATION:Marktplatz
GEO:53.250207;10.408366
URL;VALUE=URI:https://criticalmass.in/lueneburg/2022-12-02
END:VEVENT
END:VCALENDAR
