BEGIN:VCALENDAR
VERSION:2.0
PRODID:-//Sabre//Sabre VObject 4.5.8//EN
CALSCALE:GREGORIAN
BEGIN:VEVENT
UID:criticalmass-one-lueneburg-1656691200
DTSTAMP:20260419T152738Z
SUMMARY:Critical Mass Lüneburg 01.07.2022
DTSTART;TZID=Europe/Berlin:20220701T180000
DTEND;TZID=Europe/Berlin:20220701T200000
LOCATION:Marktplatz
GEO:53.250207;10.408366
URL;VALUE=URI:https://criticalmass.in/lueneburg/2022-07-01
END:VEVENT
END:VCALENDAR
