BEGIN:VCALENDAR
VERSION:2.0
PRODID:-//Sabre//Sabre VObject 4.5.8//EN
CALSCALE:GREGORIAN
BEGIN:VEVENT
UID:criticalmass-one-lueneburg-1643994000
DTSTAMP:20260424T022243Z
SUMMARY:Critical Mass Lüneburg 04.02.2022
DTSTART;TZID=Europe/Berlin:20220204T180000
DTEND;TZID=Europe/Berlin:20220204T200000
LOCATION:Marktplatz
GEO:53.250207;10.408366
URL;VALUE=URI:https://criticalmass.in/lueneburg/2022-02-04
END:VEVENT
END:VCALENDAR
