BEGIN:VCALENDAR
VERSION:2.0
PRODID:-//Sabre//Sabre VObject 4.5.8//EN
CALSCALE:GREGORIAN
BEGIN:VEVENT
UID:criticalmass-one-lueneburg-1625506200
DTSTAMP:20260423T205935Z
SUMMARY:Critical Mass Lüneburg - Juli
DESCRIPTION:Wir sind zurück!\nTrotzdem und gerade deshalb: Haltet den Abst
 and von min. 1\,50 m ein\, haltet euch an die Husten-/Niesenetikette\, ver
 zichtet aufs Hände schütteln & Umarmen und haltet ggf. eine Maske bereit
 . Außerdem möchten wir euch die Corona-Warn-App ans Herz legen.\nWe are 
 back! Please: Keep the distance of min. 1\,50 m\, stick to the respiratory
  hygiene\, refrain from shaking hands & giving hugs and bring (just in cas
 e) a face mask. Additionally\, we'd like to encourage you to install the C
 orona-Warn-App.
DTSTART;TZID=Europe/Berlin:20210705T193000
DTEND;TZID=Europe/Berlin:20210705T213000
LOCATION:Bahnhofsvorplatz
GEO:53.249398;10.419159
URL;VALUE=URI:https://criticalmass.in/lueneburg/2021-07-05
END:VEVENT
END:VCALENDAR
