BEGIN:VCALENDAR
VERSION:2.0
PRODID:-//Sabre//Sabre VObject 4.5.8//EN
CALSCALE:GREGORIAN
BEGIN:VEVENT
UID:criticalmass-one-lueneburg-1607365800
DTSTAMP:20260424T132527Z
SUMMARY:Critical Mass Lüneburg - Dezember 2020
DESCRIPTION:### Findet nur statt\, falls es das Infektionsgeschehen zuläss
 t!\n### Is only happing\, if the levels of new infections allow it!\n\nLAS
 T RIDE OF THE YEAR! Weiterhin: Haltet den Abstand von min. 1\,50 m ein\, h
 altet euch an die Husten-/Niesenetikette\, verzichtet aufs Hände schütte
 ln & Umarmen und haltet ggf. eine Maske bereit. Außerdem möchten wir euc
 h die Corona-Warn-App ans Herz legen.\n\nLAST RIDE OF THE YEAR! Still: Kee
 p the distance of min. 1\,50 m\, stick to the respiratory hygiene\, refrai
 n from shaking hands & giving hugs and bring (just in case) a face mask. A
 dditionally\, we'd like to encourage you to install the Corona-Warn-App.
DTSTART;TZID=Europe/Berlin:20201207T193000
DTEND;TZID=Europe/Berlin:20201207T213000
LOCATION:Bahnhof Lüneburg\, Vorplatz
GEO:53.249668;10.418944
URL;VALUE=URI:https://criticalmass.in/lueneburg/2020-12-07
END:VEVENT
END:VCALENDAR
