BEGIN:VCALENDAR
VERSION:2.0
PRODID:-//Sabre//Sabre VObject 4.5.8//EN
CALSCALE:GREGORIAN
BEGIN:VEVENT
UID:criticalmass-one-lueneburg-1601919000
DTSTAMP:20260421T100513Z
SUMMARY:Critical Mass Lüneburg - Oktober 2020
DESCRIPTION:SPAß MIT DEM RAD IM OKTOBER!\nTrotzdem und gerade deshalb: Hal
 tet den Abstand von min. 1\,50 m ein\, haltet euch an die Husten-/Niesenet
 ikette\, verzichtet aufs Hände schütteln & Umarmen und haltet ggf. eine 
 Maske bereit. Außerdem möchten wir euch die Corona-Warn-App ans Herz leg
 en.\n\nFUN WITH YOUR BIKE IN OCTOBRE!\nPlease: Keep the distance of min. 1
 \,50 m\, stick to the respiratory hygiene\, refrain from shaking hands & g
 iving hugs and bring (just in case) a face mask. Additionally\, we'd like 
 to encourage you to install the Corona-Warn-App.
DTSTART;TZID=Europe/Berlin:20201005T193000
DTEND;TZID=Europe/Berlin:20201005T213000
LOCATION:Bahnhof Lüneburg\, Vorplatz
GEO:53.249707;10.418987
URL;VALUE=URI:https://criticalmass.in/lueneburg/2020-10-05
END:VEVENT
END:VCALENDAR
