BEGIN:VCALENDAR
VERSION:2.0
PRODID:-//Sabre//Sabre VObject 4.5.8//EN
CALSCALE:GREGORIAN
BEGIN:VEVENT
UID:criticalmass-one-lueneburg-1580754600
DTSTAMP:20260425T164714Z
SUMMARY:Critical Mass Lüneburg - Februar 2020
DESCRIPTION:<3
DTSTART;TZID=Europe/Berlin:20200203T193000
DTEND;TZID=Europe/Berlin:20200203T213000
LOCATION:Bahnhof Lüneburg\, Vorplatz
GEO:53.249719;10.419030
URL;VALUE=URI:https://criticalmass.in/lueneburg/2020-02-03
END:VEVENT
END:VCALENDAR
