BEGIN:VCALENDAR
VERSION:2.0
PRODID:-//Sabre//Sabre VObject 4.5.8//EN
CALSCALE:GREGORIAN
BEGIN:VEVENT
UID:criticalmass-one-lueneburg-1570469400
DTSTAMP:20260423T102944Z
SUMMARY:Critical Mass Lüneburg - Oktober 2019
DESCRIPTION:Bringt Freund*innen mit - zusammen radeln macht noch mehr Spaß
 !\n\nPS. Der Helm\, der vorne und hinten leuchtet ist ein torch T2.\nDie P
 lastikabdeckungen müssen abe rnach Kauf nochmal mit Epoxydharz verklebt w
 erden\, weil der Heißkleber nicht richtig hält. Ist halt ein US-Produkt.
 \nhttps://torchapparel.eu/
DTSTART;TZID=Europe/Berlin:20191007T193000
DTEND;TZID=Europe/Berlin:20191007T213000
LOCATION:Bahnhof Lüneburg
GEO:53.249777;10.419073
URL;VALUE=URI:https://criticalmass.in/lueneburg/2019-10-07
END:VEVENT
END:VCALENDAR
