BEGIN:VCALENDAR
VERSION:2.0
PRODID:-//Sabre//Sabre VObject 4.5.8//EN
CALSCALE:GREGORIAN
BEGIN:VEVENT
UID:criticalmass-one-lueneburg-1563526800
DTSTAMP:20260424T104534Z
SUMMARY:Critical Mass Lüneburg - Kohle erSetzen!
DESCRIPTION:Unter dem Motto "#reCycleRhineland - Klimagerechtigkeit erFahre
 n" findet vom 19. Juli bis 15. August die Kohle erSetzen!-Fahrradtour stat
 t. Unser Weg führt uns von Lüneburg bis zum Klimacamp Rheinland\, wo vom
  22.-25. August die Sitzblockade Kohle erSetzen! 2019 stattfinden wird. \n
 \nZum Auftakt wird es in Lüneburg am 19. Juli eine Critical Mass\, also e
 ine Fahrradfahrt im Verband\, geben. Wir treffen uns um 11 Uhr am Clamartp
 ark\, ihr seid herzlich eingeladen mitzufahren! \n\nNach der Critical Mass
  könnt ihr zu Fridays for Future Lüneburg auf den Marktplatz und dann di
 rekt zum Baumhausfest im Kurpark!\n\nMehr Infos zur Kohle erSetzen!-Fahrra
 dtour: #reCycleRhineland gibt es hier: http://www.kohle-ersetzen.de/mobi-f
 ahrradtour/\n\nACHTUNG: Die CM findet einmalig am Clamartpark statt\, es g
 ilt weiterhin der Turnus von jedem 1. Montag\, 19:30 Uhr am Bahnhof!
DTSTART;TZID=Europe/Berlin:20190719T110000
DTEND;TZID=Europe/Berlin:20190719T130000
LOCATION:Clamartpark\, Wiese hinter der Haltestelle
GEO:53.245681;10.409718
URL;VALUE=URI:https://criticalmass.in/lueneburg/2019-07-19
END:VEVENT
END:VCALENDAR
