BEGIN:VCALENDAR
VERSION:2.0
PRODID:-//Sabre//Sabre VObject 4.5.8//EN
CALSCALE:GREGORIAN
BEGIN:VEVENT
UID:criticalmass-one-lueneburg-1562002200
DTSTAMP:20260421T100524Z
SUMMARY:Critical Mass Lüneburg - Juli 2019
DESCRIPTION:Sommerliche Tour in den Abend hinein - mit Musik und Gespräche
 n!
DTSTART;TZID=Europe/Berlin:20190701T193000
DTEND;TZID=Europe/Berlin:20190701T213000
LOCATION:Bahnhof\, Bahnhofsvorplatz
GEO:53.249796;10.419073
URL;VALUE=URI:https://criticalmass.in/lueneburg/2019-07-01
END:VEVENT
END:VCALENDAR
