BEGIN:VCALENDAR
VERSION:2.0
PRODID:-//Sabre//Sabre VObject 4.5.8//EN
CALSCALE:GREGORIAN
BEGIN:VEVENT
UID:criticalmass-one-lueneburg-1557163800
DTSTAMP:20260422T051013Z
SUMMARY:Critical Mass Lüneburg - Mai 2019
DESCRIPTION:Mai-o-Mai!
DTSTART;TZID=Europe/Berlin:20190506T193000
DTEND;TZID=Europe/Berlin:20190506T213000
LOCATION:Bahnhof\, Bahnhofsvorplatz
GEO:53.249707;10.419073
URL;VALUE=URI:https://criticalmass.in/lueneburg/2019-05-06
END:VEVENT
END:VCALENDAR
