BEGIN:VCALENDAR
VERSION:2.0
PRODID:-//Sabre//Sabre VObject 4.5.8//EN
CALSCALE:GREGORIAN
BEGIN:VEVENT
UID:criticalmass-one-lueneburg-1394215200
DTSTAMP:20260425T181909Z
SUMMARY:Critical Mass Lüneburg 07.03.2014
DTSTART;TZID=Europe/Berlin:20140307T190000
DTEND;TZID=Europe/Berlin:20140307T210000
LOCATION:Clamartpark
GEO:53.245847;10.411319
URL;VALUE=URI:https://criticalmass.in/lueneburg/2014-03-07
END:VEVENT
END:VCALENDAR
